BEGIN:VCALENDAR
VERSION:2.0
PRODID:-//Mass History Commons - ECPv6.15.20//NONSGML v1.0//EN
CALSCALE:GREGORIAN
METHOD:PUBLISH
X-ORIGINAL-URL:https://masshistorycommons.org
X-WR-CALDESC:Events for Mass History Commons
REFRESH-INTERVAL;VALUE=DURATION:PT1H
X-Robots-Tag:noindex
X-PUBLISHED-TTL:PT1H
BEGIN:VTIMEZONE
TZID:America/New_York
BEGIN:DAYLIGHT
TZOFFSETFROM:-0500
TZOFFSETTO:-0400
TZNAME:EDT
DTSTART:20200308T070000
END:DAYLIGHT
BEGIN:STANDARD
TZOFFSETFROM:-0400
TZOFFSETTO:-0500
TZNAME:EST
DTSTART:20201101T060000
END:STANDARD
BEGIN:DAYLIGHT
TZOFFSETFROM:-0500
TZOFFSETTO:-0400
TZNAME:EDT
DTSTART:20210314T070000
END:DAYLIGHT
BEGIN:STANDARD
TZOFFSETFROM:-0400
TZOFFSETTO:-0500
TZNAME:EST
DTSTART:20211107T060000
END:STANDARD
BEGIN:DAYLIGHT
TZOFFSETFROM:-0500
TZOFFSETTO:-0400
TZNAME:EDT
DTSTART:20220313T070000
END:DAYLIGHT
BEGIN:STANDARD
TZOFFSETFROM:-0400
TZOFFSETTO:-0500
TZNAME:EST
DTSTART:20221106T060000
END:STANDARD
END:VTIMEZONE
BEGIN:VEVENT
DTSTART;TZID=America/New_York:20210625T130000
DTEND;TZID=America/New_York:20210625T143000
DTSTAMP:20260423T133441
CREATED:20210415T172154Z
LAST-MODIFIED:20210617T015816Z
UID:3876-1624626000-1624631400@masshistorycommons.org
SUMMARY:Cafe on the Commons: Preserving History
DESCRIPTION:Do you miss chatting with your colleagues and friends as you walked from session to session during our conference? Do you miss exchanging ideas about best practices\, new programs\, or how to stop a leak with only duct tape? Did you attend a specific session that blew your mind during our 2021 program and want to delve further into a topic? \nJoin us for Cafe on the Commons: Preserving History to chat about all things related to preserving history! \nThis session will be moderated by Evan Knight\, Preservation Specialist with the Massachusetts Board Library Commissioners\, and Erin D. A. Kelly\, Associate Director of Preservation Massachusetts. \nThis networking session may be of interest to curators\, archivists\, librarians\, building preservationists\, historical society members and volunteers\, and all public history and preservation practitioners who work to preserve history. \nAdmittance to this event is included in the 2021 Mass History Conference registration fee. To claim your free registration\, use your promo code to register in Eventbrite. If you did not register for the Mass History Conference\, you can register here for $5. \nQuestions? Contact registration@masshistoryalliance.org.
URL:https://masshistorycommons.org/event/cafe-on-the-commons-preserving-history/
LOCATION:Online\, MA\, United States
CATEGORIES:Cafes on the Commons
ORGANIZER;CN="Mass History Alliance":MAILTO:commons@masshistoryalliance.org
END:VEVENT
BEGIN:VEVENT
DTSTART;TZID=America/New_York:20210618T130000
DTEND;TZID=America/New_York:20210618T143000
DTSTAMP:20260423T133441
CREATED:20210415T172031Z
LAST-MODIFIED:20210617T010715Z
UID:3874-1624021200-1624026600@masshistorycommons.org
SUMMARY:Cafe on the Commons: Working with History
DESCRIPTION:Do you miss chatting with your colleagues and friends as you walked from session to session during our conference? Do you miss exchanging ideas about best practices\, new programs\, or how to stop a leak with only duct tape? Did you attend a specific session that blew your mind during our 2021 program and want to delve further into a topic? \nJoin us for Cafe on the Commons: Working with History to chat about all things related to working with history! \nThis session will be moderated by Laura B. Roberts\, former executive director of the New England Museum Association. As a consultant\, Laura Roberts works with cultural nonprofits on strategic planning\, assessment\, staff and board training\, and organizational development. She teaches museum management at Harvard University and Bank Street College of Education. She was executive director of the New England Museum Association and director of education at three history museums in New England. Laura is the chair of the board of Central Square Theater in Cambridge\, MA\, and a board member at History Cambridge\, where she chairs the program committee. She is former chair of the Tufts Art Gallery advisory board and Mass Humanities. Laura holds an M.B.A. from Boston University and an M.A. from the Cooperstown Graduate Program. \nThis networking session may be of interest to museum professionals and volunteers\, historical society members and volunteers\, and all public history practitioners who regularly work with history in its many representations. \nAdmittance to this event is included in the 2021 Mass History Conference registration fee. To claim your free registration\, use your promo code to register in Eventbrite. If you did not register for the Mass History Conference\, you can register here for $5. \nQuestions? Contact registration@masshistoryalliance.org.
URL:https://masshistorycommons.org/event/cafe-on-the-commons-working-with-history/
LOCATION:Online\, MA\, United States
CATEGORIES:Cafes on the Commons
ATTACH;FMTTYPE=image/png:https://masshistorycommons.org/wp-content/uploads/2021/06/placeholder_cafe_green.png
ORGANIZER;CN="Mass History Alliance":MAILTO:commons@masshistoryalliance.org
END:VEVENT
BEGIN:VEVENT
DTSTART;TZID=America/New_York:20210611T130000
DTEND;TZID=America/New_York:20210611T143000
DTSTAMP:20260423T133441
CREATED:20210415T171832Z
LAST-MODIFIED:20210611T133358Z
UID:3871-1623416400-1623421800@masshistorycommons.org
SUMMARY:Cafe on the Commons: Teaching History
DESCRIPTION:Do you miss chatting with your colleagues and friends as you walked from session to session during our conference? Do you miss exchanging ideas about best practices\, new programs\, or how to stop a leak with only duct tape? Did you attend a specific session that blew your mind during our 2021 program and want to delve further into a topic? \nJoin us for Cafe on the Commons: Teaching History to chat about all things related to teaching history! \nThis session will be moderated by Margo Shea\, Associate Professor of History at Salem State University. \nThis networking session may be of interest to teachers\, archivists and librarians\, docents and demonstrators\, and all public history practitioners who engage with audiences for the purposes of teaching. \nAdmittance to this event is included in the 2021 Mass History Conference registration fee. To claim your free registration\, use your promo code to register in Eventbrite. If you did not register for the Mass History Conference\, you can register here for $5. \nQuestions? Contact registration@masshistoryalliance.org.
URL:https://masshistorycommons.org/event/cafe-on-the-commons-teaching-history/
LOCATION:Online\, MA\, United States
CATEGORIES:Cafes on the Commons
ORGANIZER;CN="Mass History Alliance":MAILTO:commons@masshistoryalliance.org
END:VEVENT
END:VCALENDAR