BEGIN:VCALENDAR
VERSION:2.0
PRODID:-//Mass History Commons - ECPv6.15.20//NONSGML v1.0//EN
CALSCALE:GREGORIAN
METHOD:PUBLISH
X-ORIGINAL-URL:https://masshistorycommons.org
X-WR-CALDESC:Events for Mass History Commons
REFRESH-INTERVAL;VALUE=DURATION:PT1H
X-Robots-Tag:noindex
X-PUBLISHED-TTL:PT1H
BEGIN:VTIMEZONE
TZID:America/New_York
BEGIN:DAYLIGHT
TZOFFSETFROM:-0500
TZOFFSETTO:-0400
TZNAME:EDT
DTSTART:20190310T070000
END:DAYLIGHT
BEGIN:STANDARD
TZOFFSETFROM:-0400
TZOFFSETTO:-0500
TZNAME:EST
DTSTART:20191103T060000
END:STANDARD
BEGIN:DAYLIGHT
TZOFFSETFROM:-0500
TZOFFSETTO:-0400
TZNAME:EDT
DTSTART:20200308T070000
END:DAYLIGHT
BEGIN:STANDARD
TZOFFSETFROM:-0400
TZOFFSETTO:-0500
TZNAME:EST
DTSTART:20201101T060000
END:STANDARD
BEGIN:DAYLIGHT
TZOFFSETFROM:-0500
TZOFFSETTO:-0400
TZNAME:EDT
DTSTART:20210314T070000
END:DAYLIGHT
BEGIN:STANDARD
TZOFFSETFROM:-0400
TZOFFSETTO:-0500
TZNAME:EST
DTSTART:20211107T060000
END:STANDARD
END:VTIMEZONE
BEGIN:VEVENT
DTSTART;TZID=America/New_York:20200626T140000
DTEND;TZID=America/New_York:20200626T153000
DTSTAMP:20260423T151958
CREATED:20200626T155213Z
LAST-MODIFIED:20200626T155213Z
UID:2251-1593180000-1593185400@masshistorycommons.org
SUMMARY:Launch of the Mass History Commons
DESCRIPTION:Let’s throw a virtual party to celebrate the opening of a real resource\n \nThe Commons is an interactive website where people from Massachusetts history organizations can gather\, network\, share tools and resources\, and build the profile of their organizations and institutions — a place where all historical organizations and groups can hang out a shingle and be seen as part of a much larger whole. What’s a Commons for? See what it’s about! \nThe Mass History Commons brings us together!  \nJoin the MHA Board\, Commons logistics coordinator Caroline Littlewood\,  and esteemed guests as we take a tour of the Commons and explore its possibilities. \nREGISTER HERE \nThe annual Mass History Conference brings together a diverse community of local and community historians\, museum and historical society staff and volunteers\, archivists\, librarians\, researchers and educators.  This year — not so much. The Mass History Commons\, built over the past six weeks\,  is more than a substitute for the cancelled 2020 conference.  It is a permanent resource that extends the conversation and creates a space to share\, collaborate\, learn\, brainstorm\, plan\, and in general be up to no good. Perhaps you’ve enjoyed the Conversations on the Commons\, now you will see the rest! \nRegistration is free. After you register\, we’ll send you a link to the meeting.\nZoom participation is limited to 60. The event will be live-streamed on the Commons — we will monitor your questions and comments there as well. Check back here for the link. \nMHA Board members are Pleun Bouricius (Plainfield Historical Society)\, Stacia Caplanson (Preservation Massachusetts)\, Shana Dumont Garr (Fruitlands)\, Jon Green (Stonehill College)\, Gavin Kleespies (Massachusetts Historical Society)\, Katie MacDonald (Old Colony History Museum)\, Eric Peterson (Waterworks Museum)\, Sonia Pacheco (UMass Dartmouth)\, Mike Potaski (Uxbridge Historical Commission)\,  Margo Shea (Salem State University)\, Earl Taylor (Dorchester Historical Society) \n\nCONVERSATIONS ON THE COMMONS Where people from Massachusetts history organizations get to vent\, empathize\, laugh\, complain\, think\, collaborate\, brainstorm\, plan\, and in general be up to no good. 
URL:https://masshistorycommons.org/event/launch-of-the-mass-history-commons/
LOCATION:Online\, MA\, United States
CATEGORIES:Conversations on the Commons (events)
ATTACH;FMTTYPE=image/jpeg:https://masshistorycommons.org/wp-content/uploads/2020/06/Salem-State-1-e1593186559425.jpg
ORGANIZER;CN="Mass History Alliance":MAILTO:commons@masshistoryalliance.org
END:VEVENT
BEGIN:VEVENT
DTSTART;TZID=America/New_York:20200619T120000
DTEND;TZID=America/New_York:20200619T133000
DTSTAMP:20260423T151958
CREATED:20200616T202921Z
LAST-MODIFIED:20200616T173022Z
UID:1182-1592568000-1592573400@masshistorycommons.org
SUMMARY:Conversations on the Commons: Reopening\, Engaging\, or Both?
DESCRIPTION:Check-in: How are we doing on planning for reopening?\nFollowing up from our conversation two weeks ago\, we’ll talk through the reopening process for our institutions\, small to large. Some are opening outdoor spaces. Others are focusing on distance engagement or doing much-needed work in their buildings or on their collections. What does the landscape look like now? How is the process going? Join Penni Martorell of Wistariahurst (Holyoke) and Gloria Greis of the Needham Historical Society for an informal discussion. \nWhat are your reopening plans? What is at the top of your list of worries?  How are you managing financially? Are volunteers interested in participating in public programs when the time comes? Is your board helpful? What do you wish you had? What are you hoping for? \nREGISTER HERE \nRegistration is free. After you register\, we’ll send you a link to the meeting. Register now! \nZoom participation is limited to 40. The event will be live-streamed — we will monitor your questions and comments as well. Stay tuned for details on that. Questions? Contact Caroline Littlewood at conference@masshistoryalliance.org. \nPenni Martorell is Curator and City Historian at Wistariahurst and Gloria Greis is Executive Director at the Needham History Center & Museum. \n\n		\n		\n			\n				\n			\n				\n				Penni Martorell is curator of collections at Wistariahurst Museum and Holyoke’s City Historian. Martorell’s work at Wistariahurst includes managing and preserving collections and archive\, organizing history exhibits and lectures; providing opportunities for community organizations\, college classes\, school groups and the public to engage with local history through presentations and workshops. She lectures on Holyoke’s industrial history\, local textile and paper industries\, and women history makers. She has lead workshops on preserving heirlooms\, basic textile preservation and is an oral history trainer. Martorell served 5 years on the State Historic Records Advisory Board and has served 6 years as Vice President of The Pioneer Valley History Network. Her passion is book and printing history.\n				\n			\n				\n			\n				\n				Gloria Polizzotti Greis been Executive Director of the Needham History Center & Museum since June 2002. She has worked in museums since 1985. She has also taught both Anthropology and Museums Studies at the college level\, and had experience teaching in a museum setting with high school and elementary school classes. Dr Greis is a Needham resident. She holds a PhD in Anthropology\, specializing in the archaeology of prehistoric Europe. She is the author of two books on archaeology; a book and three films on local history; several articles on history\, archaeology and various other topics; and writes a weekly local history blog. She is Chair of the Needham Historical Commission\, sits on several municipal committees and nonprofit boards\, and is an elected Fellow of the Massachusetts Historical Society.
URL:https://masshistorycommons.org/event/conversations-on-the-commons-reopening-engaging-or-both/
LOCATION:Online\, MA\, United States
ATTACH;FMTTYPE=image/jpeg:https://masshistorycommons.org/wp-content/uploads/2020/06/https___cdn.evbuc_.com_images_103503292_450224864386_1_original1.jpg
ORGANIZER;CN="Mass History Alliance":MAILTO:commons@masshistoryalliance.org
END:VEVENT
END:VCALENDAR